BEGIN:VCALENDAR
VERSION:2.0
PRODID:-//AFLabs urnik izvoz - pf//aflabs.si//SI
DTSTAMP:20260422T220512Z
NAME:UL PF Urnik
REFRESH-INTERVAL:PT1H
SOURCE:https://urnik.pf.uni-lj.si/teacher/52?day=2026-02-18&export=1
URL:https://urnik.pf.uni-lj.si/teacher/52?day=2026-02-18&export=1
X-PUBLISHED-TTL:PT1H
X-WR-CALNAME:UL PF Urnik
X-WR-TIMEZONE:Europe/Ljubljana
BEGIN:VTIMEZONE
TZID:Europe/Ljubljana
BEGIN:DAYLIGHT
DTSTART:20260329T020000
RDATE:20260329T020000
RDATE:20270328T020000
TZNAME:CEST
TZOFFSETFROM:+0100
TZOFFSETTO:+0200
END:DAYLIGHT
BEGIN:STANDARD
DTSTART:20261025T030000
RDATE:20261025T030000
RDATE:20271031T030000
TZNAME:CET
TZOFFSETFROM:+0200
TZOFFSETTO:+0100
END:STANDARD
END:VTIMEZONE
BEGIN:VEVENT
SUMMARY:Tuja pravna terminologija - italijanščina (TPT ITA)\, Predavanje
  (P)
DTSTART;TZID=Europe/Ljubljana:20260209T170000
DTEND;TZID=Europe/Ljubljana:20260209T190000
DTSTAMP:20260422T220512Z
UID:pf-AFLABS-URNIK:premaknjeno-srecanje:20208
ATTENDEE:3. letnik (B1)
CATEGORIES:Entry,Standard
COLOR:darkgreen
DESCRIPTION:Predmet: Tuja pravna terminologija - italijanščina (TPT ITA)
 \, Predavanje (P)\nLetniki: 3. letnik (B1)\nIzvajalci: Sandro Paolucci\nPr
 ostor: Seminar 6
LOCATION:Seminar 6
ORGANIZER:Sandro Paolucci
RELATED-TO:pf-AFLABS-URNIK:srecanje:844
X-WR-TIMEZONE:Europe/Ljubljana
END:VEVENT
BEGIN:VEVENT
SUMMARY:Tuja pravna terminologija - italijanščina (TPT ITA)\, Predavanje
  (P)
DTSTART;TZID=Europe/Ljubljana:20260216T170000
DTEND;TZID=Europe/Ljubljana:20260216T190000
DTSTAMP:20260422T220512Z
UID:pf-AFLABS-URNIK:premaknjeno-srecanje:20209
ATTENDEE:3. letnik (B1)
CATEGORIES:Entry,Standard
COLOR:darkgreen
DESCRIPTION:Predmet: Tuja pravna terminologija - italijanščina (TPT ITA)
 \, Predavanje (P)\nLetniki: 3. letnik (B1)\nIzvajalci: Sandro Paolucci\nPr
 ostor: Seminar 6
LOCATION:Seminar 6
ORGANIZER:Sandro Paolucci
RELATED-TO:pf-AFLABS-URNIK:srecanje:844
X-WR-TIMEZONE:Europe/Ljubljana
END:VEVENT
BEGIN:VEVENT
SUMMARY:Tuja pravna terminologija - italijanščina (TPT ITA)\, Predavanje
  (P)
DTSTART;TZID=Europe/Ljubljana:20260223T170000
DTEND;TZID=Europe/Ljubljana:20260223T190000
DTSTAMP:20260422T220512Z
UID:pf-AFLABS-URNIK:premaknjeno-srecanje:20210
ATTENDEE:3. letnik (B1)
CATEGORIES:Entry,Standard
COLOR:darkgreen
DESCRIPTION:Predmet: Tuja pravna terminologija - italijanščina (TPT ITA)
 \, Predavanje (P)\nLetniki: 3. letnik (B1)\nIzvajalci: Sandro Paolucci\nPr
 ostor: Seminar 6
LOCATION:Seminar 6
ORGANIZER:Sandro Paolucci
RELATED-TO:pf-AFLABS-URNIK:srecanje:844
X-WR-TIMEZONE:Europe/Ljubljana
END:VEVENT
BEGIN:VEVENT
SUMMARY:Tuja pravna terminologija - italijanščina (TPT ITA)\, Predavanje
  (P)
DTSTART;TZID=Europe/Ljubljana:20260302T170000
DTEND;TZID=Europe/Ljubljana:20260302T190000
DTSTAMP:20260422T220512Z
UID:pf-AFLABS-URNIK:premaknjeno-srecanje:13612
ATTENDEE:3. letnik (B1)
CATEGORIES:Entry,Standard
COLOR:darkgreen
DESCRIPTION:Predmet: Tuja pravna terminologija - italijanščina (TPT ITA)
 \, Predavanje (P)\nLetniki: 3. letnik (B1)\nIzvajalci: Sandro Paolucci\nPr
 ostor: Seminar 6
LOCATION:Seminar 6
ORGANIZER:Sandro Paolucci
RELATED-TO:pf-AFLABS-URNIK:srecanje:844
X-WR-TIMEZONE:Europe/Ljubljana
END:VEVENT
BEGIN:VEVENT
SUMMARY:Tuja pravna terminologija - italijanščina (TPT ITA)\, Predavanje
  (P)
DTSTART;TZID=Europe/Ljubljana:20260309T170000
DTEND;TZID=Europe/Ljubljana:20260309T190000
DTSTAMP:20260422T220512Z
UID:pf-AFLABS-URNIK:premaknjeno-srecanje:20211
ATTENDEE:3. letnik (B1)
CATEGORIES:Entry,Standard
COLOR:darkgreen
DESCRIPTION:Predmet: Tuja pravna terminologija - italijanščina (TPT ITA)
 \, Predavanje (P)\nLetniki: 3. letnik (B1)\nIzvajalci: Sandro Paolucci\nPr
 ostor: Seminar 6
LOCATION:Seminar 6
ORGANIZER:Sandro Paolucci
RELATED-TO:pf-AFLABS-URNIK:srecanje:844
X-WR-TIMEZONE:Europe/Ljubljana
END:VEVENT
BEGIN:VEVENT
SUMMARY:Tuja pravna terminologija - italijanščina (TPT ITA)\, Predavanje
  (P)
DTSTART;TZID=Europe/Ljubljana:20260316T170000
DTEND;TZID=Europe/Ljubljana:20260316T190000
DTSTAMP:20260422T220512Z
UID:pf-AFLABS-URNIK:premaknjeno-srecanje:20212
ATTENDEE:3. letnik (B1)
CATEGORIES:Entry,Standard
COLOR:darkgreen
DESCRIPTION:Predmet: Tuja pravna terminologija - italijanščina (TPT ITA)
 \, Predavanje (P)\nLetniki: 3. letnik (B1)\nIzvajalci: Sandro Paolucci\nPr
 ostor: Seminar 6
LOCATION:Seminar 6
ORGANIZER:Sandro Paolucci
RELATED-TO:pf-AFLABS-URNIK:srecanje:844
X-WR-TIMEZONE:Europe/Ljubljana
END:VEVENT
BEGIN:VEVENT
SUMMARY:Tuja pravna terminologija - italijanščina (TPT ITA)\, Predavanje
  (P)
DTSTART;TZID=Europe/Ljubljana:20260323T170000
DTEND;TZID=Europe/Ljubljana:20260323T190000
DTSTAMP:20260422T220512Z
UID:pf-AFLABS-URNIK:premaknjeno-srecanje:20213
ATTENDEE:3. letnik (B1)
CATEGORIES:Entry,Standard
COLOR:darkgreen
DESCRIPTION:Predmet: Tuja pravna terminologija - italijanščina (TPT ITA)
 \, Predavanje (P)\nLetniki: 3. letnik (B1)\nIzvajalci: Sandro Paolucci\nPr
 ostor: Seminar 6
LOCATION:Seminar 6
ORGANIZER:Sandro Paolucci
RELATED-TO:pf-AFLABS-URNIK:srecanje:844
X-WR-TIMEZONE:Europe/Ljubljana
END:VEVENT
BEGIN:VEVENT
SUMMARY:Tuja pravna terminologija - italijanščina (TPT ITA)\, Predavanje
  (P)
DTSTART;TZID=Europe/Ljubljana:20260330T170000
DTEND;TZID=Europe/Ljubljana:20260330T190000
DTSTAMP:20260422T220512Z
UID:pf-AFLABS-URNIK:premaknjeno-srecanje:20214
ATTENDEE:3. letnik (B1)
CATEGORIES:Entry,Standard
COLOR:darkgreen
DESCRIPTION:Predmet: Tuja pravna terminologija - italijanščina (TPT ITA)
 \, Predavanje (P)\nLetniki: 3. letnik (B1)\nIzvajalci: Sandro Paolucci\nPr
 ostor: Seminar 6
LOCATION:Seminar 6
ORGANIZER:Sandro Paolucci
RELATED-TO:pf-AFLABS-URNIK:srecanje:844
X-WR-TIMEZONE:Europe/Ljubljana
END:VEVENT
BEGIN:VEVENT
SUMMARY:Tuja pravna terminologija - italijanščina (TPT ITA)\, Predavanje
  (P)
DTSTART;TZID=Europe/Ljubljana:20260406T170000
DTEND;TZID=Europe/Ljubljana:20260406T190000
DTSTAMP:20260422T220512Z
UID:pf-AFLABS-URNIK:premaknjeno-srecanje:20215
ATTENDEE:3. letnik (B1)
CATEGORIES:Entry,Standard
COLOR:darkgreen
DESCRIPTION:Predmet: Tuja pravna terminologija - italijanščina (TPT ITA)
 \, Predavanje (P)\nLetniki: 3. letnik (B1)\nIzvajalci: Sandro Paolucci\nPr
 ostor: Seminar 6
LOCATION:Seminar 6
ORGANIZER:Sandro Paolucci
RELATED-TO:pf-AFLABS-URNIK:srecanje:844
X-WR-TIMEZONE:Europe/Ljubljana
END:VEVENT
BEGIN:VEVENT
SUMMARY:Tuja pravna terminologija - italijanščina (TPT ITA)\, Predavanje
  (P)
DTSTART;TZID=Europe/Ljubljana:20260413T170000
DTEND;TZID=Europe/Ljubljana:20260413T190000
DTSTAMP:20260422T220512Z
UID:pf-AFLABS-URNIK:premaknjeno-srecanje:20216
ATTENDEE:3. letnik (B1)
CATEGORIES:Entry,Standard
COLOR:darkgreen
DESCRIPTION:Predmet: Tuja pravna terminologija - italijanščina (TPT ITA)
 \, Predavanje (P)\nLetniki: 3. letnik (B1)\nIzvajalci: Sandro Paolucci\nPr
 ostor: Seminar 6
LOCATION:Seminar 6
ORGANIZER:Sandro Paolucci
RELATED-TO:pf-AFLABS-URNIK:srecanje:844
X-WR-TIMEZONE:Europe/Ljubljana
END:VEVENT
BEGIN:VEVENT
SUMMARY:Tuja pravna terminologija - italijanščina (TPT ITA)\, Predavanje
  (P)
DTSTART;TZID=Europe/Ljubljana:20260420T170000
DTEND;TZID=Europe/Ljubljana:20260420T190000
DTSTAMP:20260422T220512Z
UID:pf-AFLABS-URNIK:premaknjeno-srecanje:20217
ATTENDEE:3. letnik (B1)
CATEGORIES:Entry,Standard
COLOR:darkgreen
DESCRIPTION:Predmet: Tuja pravna terminologija - italijanščina (TPT ITA)
 \, Predavanje (P)\nLetniki: 3. letnik (B1)\nIzvajalci: Sandro Paolucci\nPr
 ostor: Seminar 6
LOCATION:Seminar 6
ORGANIZER:Sandro Paolucci
RELATED-TO:pf-AFLABS-URNIK:srecanje:844
X-WR-TIMEZONE:Europe/Ljubljana
END:VEVENT
BEGIN:VEVENT
SUMMARY:Tuja pravna terminologija - italijanščina (TPT ITA)\, Predavanje
  (P)
DTSTART;TZID=Europe/Ljubljana:20260427T170000
DTEND;TZID=Europe/Ljubljana:20260427T190000
DTSTAMP:20260422T220512Z
UID:pf-AFLABS-URNIK:premaknjeno-srecanje:20218
ATTENDEE:3. letnik (B1)
CATEGORIES:Entry,Standard
COLOR:darkgreen
DESCRIPTION:Predmet: Tuja pravna terminologija - italijanščina (TPT ITA)
 \, Predavanje (P)\nLetniki: 3. letnik (B1)\nIzvajalci: Sandro Paolucci\nPr
 ostor: Seminar 6
LOCATION:Seminar 6
ORGANIZER:Sandro Paolucci
RELATED-TO:pf-AFLABS-URNIK:srecanje:844
X-WR-TIMEZONE:Europe/Ljubljana
END:VEVENT
BEGIN:VEVENT
SUMMARY:Tuja pravna terminologija - italijanščina (TPT ITA)\, Predavanje
  (P)
DTSTART;TZID=Europe/Ljubljana:20260504T170000
DTEND;TZID=Europe/Ljubljana:20260504T190000
DTSTAMP:20260422T220512Z
UID:pf-AFLABS-URNIK:premaknjeno-srecanje:20219
ATTENDEE:3. letnik (B1)
CATEGORIES:Entry,Standard
COLOR:darkgreen
DESCRIPTION:Predmet: Tuja pravna terminologija - italijanščina (TPT ITA)
 \, Predavanje (P)\nLetniki: 3. letnik (B1)\nIzvajalci: Sandro Paolucci\nPr
 ostor: Seminar 6
LOCATION:Seminar 6
ORGANIZER:Sandro Paolucci
RELATED-TO:pf-AFLABS-URNIK:srecanje:844
X-WR-TIMEZONE:Europe/Ljubljana
END:VEVENT
BEGIN:VEVENT
SUMMARY:Tuja pravna terminologija - italijanščina (TPT ITA)\, Predavanje
  (P)
DTSTART;TZID=Europe/Ljubljana:20260511T170000
DTEND;TZID=Europe/Ljubljana:20260511T190000
DTSTAMP:20260422T220512Z
UID:pf-AFLABS-URNIK:premaknjeno-srecanje:20220
ATTENDEE:3. letnik (B1)
CATEGORIES:Entry,Standard
COLOR:darkgreen
DESCRIPTION:Predmet: Tuja pravna terminologija - italijanščina (TPT ITA)
 \, Predavanje (P)\nLetniki: 3. letnik (B1)\nIzvajalci: Sandro Paolucci\nPr
 ostor: Seminar 6
LOCATION:Seminar 6
ORGANIZER:Sandro Paolucci
RELATED-TO:pf-AFLABS-URNIK:srecanje:844
X-WR-TIMEZONE:Europe/Ljubljana
END:VEVENT
BEGIN:VEVENT
SUMMARY:Tuja pravna terminologija - italijanščina (TPT ITA)\, Predavanje
  (P)
DTSTART;TZID=Europe/Ljubljana:20260518T170000
DTEND;TZID=Europe/Ljubljana:20260518T190000
DTSTAMP:20260422T220512Z
UID:pf-AFLABS-URNIK:premaknjeno-srecanje:20221
ATTENDEE:3. letnik (B1)
CATEGORIES:Entry,Standard
COLOR:darkgreen
DESCRIPTION:Predmet: Tuja pravna terminologija - italijanščina (TPT ITA)
 \, Predavanje (P)\nLetniki: 3. letnik (B1)\nIzvajalci: Sandro Paolucci\nPr
 ostor: Seminar 6
LOCATION:Seminar 6
ORGANIZER:Sandro Paolucci
RELATED-TO:pf-AFLABS-URNIK:srecanje:844
X-WR-TIMEZONE:Europe/Ljubljana
END:VEVENT
BEGIN:VEVENT
SUMMARY:Tuja pravna terminologija - italijanščina (TPT ITA)\, Predavanje
  (P)
DTSTART;TZID=Europe/Ljubljana:20260209T170000
DTEND;TZID=Europe/Ljubljana:20260209T190000
DTSTAMP:20260422T220512Z
UID:pf-AFLABS-URNIK:premaknjeno-srecanje:20222
ATTENDEE:2. letnik (EM)
CATEGORIES:Entry,Standard
COLOR:darkgreen
DESCRIPTION:Predmet: Tuja pravna terminologija - italijanščina (TPT ITA)
 \, Predavanje (P)\nLetniki: 2. letnik (EM)\nIzvajalci: Sandro Paolucci\nPr
 ostor: Seminar 6
LOCATION:Seminar 6
ORGANIZER:Sandro Paolucci
RELATED-TO:pf-AFLABS-URNIK:srecanje:843
X-WR-TIMEZONE:Europe/Ljubljana
END:VEVENT
BEGIN:VEVENT
SUMMARY:Tuja pravna terminologija - italijanščina (TPT ITA)\, Predavanje
  (P)
DTSTART;TZID=Europe/Ljubljana:20260216T170000
DTEND;TZID=Europe/Ljubljana:20260216T190000
DTSTAMP:20260422T220512Z
UID:pf-AFLABS-URNIK:premaknjeno-srecanje:20223
ATTENDEE:2. letnik (EM)
CATEGORIES:Entry,Standard
COLOR:darkgreen
DESCRIPTION:Predmet: Tuja pravna terminologija - italijanščina (TPT ITA)
 \, Predavanje (P)\nLetniki: 2. letnik (EM)\nIzvajalci: Sandro Paolucci\nPr
 ostor: Seminar 6
LOCATION:Seminar 6
ORGANIZER:Sandro Paolucci
RELATED-TO:pf-AFLABS-URNIK:srecanje:843
X-WR-TIMEZONE:Europe/Ljubljana
END:VEVENT
BEGIN:VEVENT
SUMMARY:Tuja pravna terminologija - italijanščina (TPT ITA)\, Predavanje
  (P)
DTSTART;TZID=Europe/Ljubljana:20260223T170000
DTEND;TZID=Europe/Ljubljana:20260223T190000
DTSTAMP:20260422T220512Z
UID:pf-AFLABS-URNIK:premaknjeno-srecanje:20224
ATTENDEE:2. letnik (EM)
CATEGORIES:Entry,Standard
COLOR:darkgreen
DESCRIPTION:Predmet: Tuja pravna terminologija - italijanščina (TPT ITA)
 \, Predavanje (P)\nLetniki: 2. letnik (EM)\nIzvajalci: Sandro Paolucci\nPr
 ostor: Seminar 6
LOCATION:Seminar 6
ORGANIZER:Sandro Paolucci
RELATED-TO:pf-AFLABS-URNIK:srecanje:843
X-WR-TIMEZONE:Europe/Ljubljana
END:VEVENT
BEGIN:VEVENT
SUMMARY:Tuja pravna terminologija - italijanščina (TPT ITA)\, Predavanje
  (P)
DTSTART;TZID=Europe/Ljubljana:20260302T170000
DTEND;TZID=Europe/Ljubljana:20260302T190000
DTSTAMP:20260422T220512Z
UID:pf-AFLABS-URNIK:premaknjeno-srecanje:13596
ATTENDEE:2. letnik (EM)
CATEGORIES:Entry,Standard
COLOR:darkgreen
DESCRIPTION:Predmet: Tuja pravna terminologija - italijanščina (TPT ITA)
 \, Predavanje (P)\nLetniki: 2. letnik (EM)\nIzvajalci: Sandro Paolucci\nPr
 ostor: Seminar 6
LOCATION:Seminar 6
ORGANIZER:Sandro Paolucci
RELATED-TO:pf-AFLABS-URNIK:srecanje:843
X-WR-TIMEZONE:Europe/Ljubljana
END:VEVENT
BEGIN:VEVENT
SUMMARY:Tuja pravna terminologija - italijanščina (TPT ITA)\, Predavanje
  (P)
DTSTART;TZID=Europe/Ljubljana:20260309T170000
DTEND;TZID=Europe/Ljubljana:20260309T190000
DTSTAMP:20260422T220512Z
UID:pf-AFLABS-URNIK:premaknjeno-srecanje:20225
ATTENDEE:2. letnik (EM)
CATEGORIES:Entry,Standard
COLOR:darkgreen
DESCRIPTION:Predmet: Tuja pravna terminologija - italijanščina (TPT ITA)
 \, Predavanje (P)\nLetniki: 2. letnik (EM)\nIzvajalci: Sandro Paolucci\nPr
 ostor: Seminar 6
LOCATION:Seminar 6
ORGANIZER:Sandro Paolucci
RELATED-TO:pf-AFLABS-URNIK:srecanje:843
X-WR-TIMEZONE:Europe/Ljubljana
END:VEVENT
BEGIN:VEVENT
SUMMARY:Tuja pravna terminologija - italijanščina (TPT ITA)\, Predavanje
  (P)
DTSTART;TZID=Europe/Ljubljana:20260316T170000
DTEND;TZID=Europe/Ljubljana:20260316T190000
DTSTAMP:20260422T220512Z
UID:pf-AFLABS-URNIK:premaknjeno-srecanje:20226
ATTENDEE:2. letnik (EM)
CATEGORIES:Entry,Standard
COLOR:darkgreen
DESCRIPTION:Predmet: Tuja pravna terminologija - italijanščina (TPT ITA)
 \, Predavanje (P)\nLetniki: 2. letnik (EM)\nIzvajalci: Sandro Paolucci\nPr
 ostor: Seminar 6
LOCATION:Seminar 6
ORGANIZER:Sandro Paolucci
RELATED-TO:pf-AFLABS-URNIK:srecanje:843
X-WR-TIMEZONE:Europe/Ljubljana
END:VEVENT
BEGIN:VEVENT
SUMMARY:Tuja pravna terminologija - italijanščina (TPT ITA)\, Predavanje
  (P)
DTSTART;TZID=Europe/Ljubljana:20260323T170000
DTEND;TZID=Europe/Ljubljana:20260323T190000
DTSTAMP:20260422T220512Z
UID:pf-AFLABS-URNIK:premaknjeno-srecanje:20227
ATTENDEE:2. letnik (EM)
CATEGORIES:Entry,Standard
COLOR:darkgreen
DESCRIPTION:Predmet: Tuja pravna terminologija - italijanščina (TPT ITA)
 \, Predavanje (P)\nLetniki: 2. letnik (EM)\nIzvajalci: Sandro Paolucci\nPr
 ostor: Seminar 6
LOCATION:Seminar 6
ORGANIZER:Sandro Paolucci
RELATED-TO:pf-AFLABS-URNIK:srecanje:843
X-WR-TIMEZONE:Europe/Ljubljana
END:VEVENT
BEGIN:VEVENT
SUMMARY:Tuja pravna terminologija - italijanščina (TPT ITA)\, Predavanje
  (P)
DTSTART;TZID=Europe/Ljubljana:20260330T170000
DTEND;TZID=Europe/Ljubljana:20260330T190000
DTSTAMP:20260422T220512Z
UID:pf-AFLABS-URNIK:premaknjeno-srecanje:20228
ATTENDEE:2. letnik (EM)
CATEGORIES:Entry,Standard
COLOR:darkgreen
DESCRIPTION:Predmet: Tuja pravna terminologija - italijanščina (TPT ITA)
 \, Predavanje (P)\nLetniki: 2. letnik (EM)\nIzvajalci: Sandro Paolucci\nPr
 ostor: Seminar 6
LOCATION:Seminar 6
ORGANIZER:Sandro Paolucci
RELATED-TO:pf-AFLABS-URNIK:srecanje:843
X-WR-TIMEZONE:Europe/Ljubljana
END:VEVENT
BEGIN:VEVENT
SUMMARY:Tuja pravna terminologija - italijanščina (TPT ITA)\, Predavanje
  (P)
DTSTART;TZID=Europe/Ljubljana:20260406T170000
DTEND;TZID=Europe/Ljubljana:20260406T190000
DTSTAMP:20260422T220512Z
UID:pf-AFLABS-URNIK:premaknjeno-srecanje:20229
ATTENDEE:2. letnik (EM)
CATEGORIES:Entry,Standard
COLOR:darkgreen
DESCRIPTION:Predmet: Tuja pravna terminologija - italijanščina (TPT ITA)
 \, Predavanje (P)\nLetniki: 2. letnik (EM)\nIzvajalci: Sandro Paolucci\nPr
 ostor: Seminar 6
LOCATION:Seminar 6
ORGANIZER:Sandro Paolucci
RELATED-TO:pf-AFLABS-URNIK:srecanje:843
X-WR-TIMEZONE:Europe/Ljubljana
END:VEVENT
BEGIN:VEVENT
SUMMARY:Tuja pravna terminologija - italijanščina (TPT ITA)\, Predavanje
  (P)
DTSTART;TZID=Europe/Ljubljana:20260413T170000
DTEND;TZID=Europe/Ljubljana:20260413T190000
DTSTAMP:20260422T220512Z
UID:pf-AFLABS-URNIK:premaknjeno-srecanje:20230
ATTENDEE:2. letnik (EM)
CATEGORIES:Entry,Standard
COLOR:darkgreen
DESCRIPTION:Predmet: Tuja pravna terminologija - italijanščina (TPT ITA)
 \, Predavanje (P)\nLetniki: 2. letnik (EM)\nIzvajalci: Sandro Paolucci\nPr
 ostor: Seminar 6
LOCATION:Seminar 6
ORGANIZER:Sandro Paolucci
RELATED-TO:pf-AFLABS-URNIK:srecanje:843
X-WR-TIMEZONE:Europe/Ljubljana
END:VEVENT
BEGIN:VEVENT
SUMMARY:Tuja pravna terminologija - italijanščina (TPT ITA)\, Predavanje
  (P)
DTSTART;TZID=Europe/Ljubljana:20260420T170000
DTEND;TZID=Europe/Ljubljana:20260420T190000
DTSTAMP:20260422T220512Z
UID:pf-AFLABS-URNIK:premaknjeno-srecanje:20231
ATTENDEE:2. letnik (EM)
CATEGORIES:Entry,Standard
COLOR:darkgreen
DESCRIPTION:Predmet: Tuja pravna terminologija - italijanščina (TPT ITA)
 \, Predavanje (P)\nLetniki: 2. letnik (EM)\nIzvajalci: Sandro Paolucci\nPr
 ostor: Seminar 6
LOCATION:Seminar 6
ORGANIZER:Sandro Paolucci
RELATED-TO:pf-AFLABS-URNIK:srecanje:843
X-WR-TIMEZONE:Europe/Ljubljana
END:VEVENT
BEGIN:VEVENT
SUMMARY:Tuja pravna terminologija - italijanščina (TPT ITA)\, Predavanje
  (P)
DTSTART;TZID=Europe/Ljubljana:20260427T170000
DTEND;TZID=Europe/Ljubljana:20260427T190000
DTSTAMP:20260422T220512Z
UID:pf-AFLABS-URNIK:premaknjeno-srecanje:20232
ATTENDEE:2. letnik (EM)
CATEGORIES:Entry,Standard
COLOR:darkgreen
DESCRIPTION:Predmet: Tuja pravna terminologija - italijanščina (TPT ITA)
 \, Predavanje (P)\nLetniki: 2. letnik (EM)\nIzvajalci: Sandro Paolucci\nPr
 ostor: Seminar 6
LOCATION:Seminar 6
ORGANIZER:Sandro Paolucci
RELATED-TO:pf-AFLABS-URNIK:srecanje:843
X-WR-TIMEZONE:Europe/Ljubljana
END:VEVENT
BEGIN:VEVENT
SUMMARY:Tuja pravna terminologija - italijanščina (TPT ITA)\, Predavanje
  (P)
DTSTART;TZID=Europe/Ljubljana:20260504T170000
DTEND;TZID=Europe/Ljubljana:20260504T190000
DTSTAMP:20260422T220512Z
UID:pf-AFLABS-URNIK:premaknjeno-srecanje:20233
ATTENDEE:2. letnik (EM)
CATEGORIES:Entry,Standard
COLOR:darkgreen
DESCRIPTION:Predmet: Tuja pravna terminologija - italijanščina (TPT ITA)
 \, Predavanje (P)\nLetniki: 2. letnik (EM)\nIzvajalci: Sandro Paolucci\nPr
 ostor: Seminar 6
LOCATION:Seminar 6
ORGANIZER:Sandro Paolucci
RELATED-TO:pf-AFLABS-URNIK:srecanje:843
X-WR-TIMEZONE:Europe/Ljubljana
END:VEVENT
BEGIN:VEVENT
SUMMARY:Tuja pravna terminologija - italijanščina (TPT ITA)\, Predavanje
  (P)
DTSTART;TZID=Europe/Ljubljana:20260511T170000
DTEND;TZID=Europe/Ljubljana:20260511T190000
DTSTAMP:20260422T220512Z
UID:pf-AFLABS-URNIK:premaknjeno-srecanje:20234
ATTENDEE:2. letnik (EM)
CATEGORIES:Entry,Standard
COLOR:darkgreen
DESCRIPTION:Predmet: Tuja pravna terminologija - italijanščina (TPT ITA)
 \, Predavanje (P)\nLetniki: 2. letnik (EM)\nIzvajalci: Sandro Paolucci\nPr
 ostor: Seminar 6
LOCATION:Seminar 6
ORGANIZER:Sandro Paolucci
RELATED-TO:pf-AFLABS-URNIK:srecanje:843
X-WR-TIMEZONE:Europe/Ljubljana
END:VEVENT
BEGIN:VEVENT
SUMMARY:Tuja pravna terminologija - italijanščina (TPT ITA)\, Predavanje
  (P)
DTSTART;TZID=Europe/Ljubljana:20260518T170000
DTEND;TZID=Europe/Ljubljana:20260518T190000
DTSTAMP:20260422T220512Z
UID:pf-AFLABS-URNIK:premaknjeno-srecanje:20235
ATTENDEE:2. letnik (EM)
CATEGORIES:Entry,Standard
COLOR:darkgreen
DESCRIPTION:Predmet: Tuja pravna terminologija - italijanščina (TPT ITA)
 \, Predavanje (P)\nLetniki: 2. letnik (EM)\nIzvajalci: Sandro Paolucci\nPr
 ostor: Seminar 6
LOCATION:Seminar 6
ORGANIZER:Sandro Paolucci
RELATED-TO:pf-AFLABS-URNIK:srecanje:843
X-WR-TIMEZONE:Europe/Ljubljana
END:VEVENT
END:VCALENDAR
