BEGIN:VCALENDAR
VERSION:2.0
PRODID:-//AFLabs urnik izvoz - pf//aflabs.si//SI
DTSTAMP:20260419T190022Z
NAME:UL PF Urnik
REFRESH-INTERVAL:PT1H
SOURCE:https://urnik.pf.uni-lj.si/teacher/48?day=2025-07-09&export=1
URL:https://urnik.pf.uni-lj.si/teacher/48?day=2025-07-09&export=1
X-PUBLISHED-TTL:PT1H
X-WR-CALNAME:UL PF Urnik
X-WR-TIMEZONE:Europe/Ljubljana
BEGIN:VTIMEZONE
TZID:Europe/Ljubljana
BEGIN:DAYLIGHT
DTSTART:20260329T020000
RDATE:20260329T020000
RDATE:20270328T020000
TZNAME:CEST
TZOFFSETFROM:+0100
TZOFFSETTO:+0200
END:DAYLIGHT
BEGIN:STANDARD
DTSTART:20261025T030000
RDATE:20261025T030000
RDATE:20271031T030000
TZNAME:CET
TZOFFSETFROM:+0200
TZOFFSETTO:+0100
END:STANDARD
END:VTIMEZONE
BEGIN:VEVENT
SUMMARY:Uvod v pravoznanstvo (UVP)\, Vaje (V)\, [1]
DTSTART;TZID=Europe/Ljubljana:20250604T130000
DTEND;TZID=Europe/Ljubljana:20250604T140000
DTSTAMP:20260419T190022Z
UID:pf-AFLABS-URNIK:premaknjeno-srecanje:7182
ATTENDEE:1. letnik (EM)
CATEGORIES:Entry,Standard
COLOR:darkgreen
DESCRIPTION:Predmet: Uvod v pravoznanstvo (UVP)\, Vaje (V)\, [1]\nLetniki:
  1. letnik (EM)\nIzvajalci: Miroslav Cerar\, Aleš Novak\nProstor: Seminar
  5
LOCATION:Seminar 5
ORGANIZER:Miroslav Cerar, Aleš Novak
RELATED-TO:pf-AFLABS-URNIK:srecanje:369
X-WR-TIMEZONE:Europe/Ljubljana
END:VEVENT
BEGIN:VEVENT
SUMMARY:Uvod v pravoznanstvo (UVP)\, Vaje (V)\, [2]
DTSTART;TZID=Europe/Ljubljana:20250604T140000
DTEND;TZID=Europe/Ljubljana:20250604T150000
DTSTAMP:20260419T190022Z
UID:pf-AFLABS-URNIK:premaknjeno-srecanje:7197
ATTENDEE:1. letnik (EM)
CATEGORIES:Entry,Standard
COLOR:darkgreen
DESCRIPTION:Predmet: Uvod v pravoznanstvo (UVP)\, Vaje (V)\, [2]\nLetniki:
  1. letnik (EM)\nIzvajalci: Miroslav Cerar\, Aleš Novak\nProstor: Seminar
  5
LOCATION:Seminar 5
ORGANIZER:Miroslav Cerar, Aleš Novak
RELATED-TO:pf-AFLABS-URNIK:srecanje:365
X-WR-TIMEZONE:Europe/Ljubljana
END:VEVENT
BEGIN:VEVENT
SUMMARY:Uvod v pravoznanstvo (UVP)\, Vaje (V)\, [3]
DTSTART;TZID=Europe/Ljubljana:20250604T150000
DTEND;TZID=Europe/Ljubljana:20250604T160000
DTSTAMP:20260419T190022Z
UID:pf-AFLABS-URNIK:premaknjeno-srecanje:7212
ATTENDEE:1. letnik (EM)
CATEGORIES:Entry,Standard
COLOR:darkgreen
DESCRIPTION:Predmet: Uvod v pravoznanstvo (UVP)\, Vaje (V)\, [3]\nLetniki:
  1. letnik (EM)\nIzvajalci: Miroslav Cerar\, Aleš Novak\nProstor: Seminar
  5
LOCATION:Seminar 5
ORGANIZER:Miroslav Cerar, Aleš Novak
RELATED-TO:pf-AFLABS-URNIK:srecanje:366
X-WR-TIMEZONE:Europe/Ljubljana
END:VEVENT
BEGIN:VEVENT
SUMMARY:Uvod v pravoznanstvo (UVP)\, Vaje (V)\, [8]
DTSTART;TZID=Europe/Ljubljana:20250604T160000
DTEND;TZID=Europe/Ljubljana:20250604T170000
DTSTAMP:20260419T190022Z
UID:pf-AFLABS-URNIK:premaknjeno-srecanje:7287
ATTENDEE:1. letnik (EM)
CATEGORIES:Entry,Standard
COLOR:darkgreen
DESCRIPTION:Predmet: Uvod v pravoznanstvo (UVP)\, Vaje (V)\, [8]\nLetniki:
  1. letnik (EM)\nIzvajalci: Miroslav Cerar\, Aleš Novak\nProstor: Seminar
  5
LOCATION:Seminar 5
ORGANIZER:Miroslav Cerar, Aleš Novak
RELATED-TO:pf-AFLABS-URNIK:srecanje:367
X-WR-TIMEZONE:Europe/Ljubljana
END:VEVENT
BEGIN:VEVENT
SUMMARY:Uvod v pravoznanstvo (UVP)\, Vaje (V)\, [9]
DTSTART;TZID=Europe/Ljubljana:20250604T170000
DTEND;TZID=Europe/Ljubljana:20250604T180000
DTSTAMP:20260419T190022Z
UID:pf-AFLABS-URNIK:premaknjeno-srecanje:7302
ATTENDEE:1. letnik (EM)
CATEGORIES:Entry,Standard
COLOR:darkgreen
DESCRIPTION:Predmet: Uvod v pravoznanstvo (UVP)\, Vaje (V)\, [9]\nLetniki:
  1. letnik (EM)\nIzvajalci: Miroslav Cerar\, Aleš Novak\nProstor: Seminar
  5
LOCATION:Seminar 5
ORGANIZER:Miroslav Cerar, Aleš Novak
RELATED-TO:pf-AFLABS-URNIK:srecanje:364
X-WR-TIMEZONE:Europe/Ljubljana
END:VEVENT
END:VCALENDAR
