BEGIN:VCALENDAR
VERSION:2.0
PRODID:-//AFLabs urnik izvoz - pf//aflabs.si//SI
DTSTAMP:20260420T003319Z
NAME:UL PF Urnik
REFRESH-INTERVAL:PT1H
SOURCE:https://urnik.pf.uni-lj.si/teacher/101?day=2026-05-25&export=1
URL:https://urnik.pf.uni-lj.si/teacher/101?day=2026-05-25&export=1
X-PUBLISHED-TTL:PT1H
X-WR-CALNAME:UL PF Urnik
X-WR-TIMEZONE:Europe/Ljubljana
BEGIN:VTIMEZONE
TZID:Europe/Ljubljana
BEGIN:DAYLIGHT
DTSTART:20260329T020000
RDATE:20260329T020000
RDATE:20270328T020000
TZNAME:CEST
TZOFFSETFROM:+0100
TZOFFSETTO:+0200
END:DAYLIGHT
BEGIN:STANDARD
DTSTART:20261025T030000
RDATE:20261025T030000
RDATE:20271031T030000
TZNAME:CET
TZOFFSETFROM:+0200
TZOFFSETTO:+0100
END:STANDARD
END:VTIMEZONE
BEGIN:VEVENT
SUMMARY:Terminološka skupina
DTSTART;TZID=Europe/Ljubljana:20260420T120000
DTEND;TZID=Europe/Ljubljana:20260420T130000
DTSTAMP:20260420T003319Z
UID:pf-AFLABS-URNIK:rezervacija:45
CATEGORIES:Reservation
COLOR:royalblue
DESCRIPTION:Predmeti: \nLetniki: \nIzvajalci: Nevenka Mehle\, Marjetka Saj
 ovic\nProstori: Senatna soba
LOCATION:Senatna soba
ORGANIZER:Nevenka Mehle, Marjetka Sajovic
X-WR-TIMEZONE:Europe/Ljubljana
END:VEVENT
BEGIN:VEVENT
SUMMARY:Terminološka skupina
DTSTART;TZID=Europe/Ljubljana:20260427T120000
DTEND;TZID=Europe/Ljubljana:20260427T130000
DTSTAMP:20260420T003319Z
UID:pf-AFLABS-URNIK:rezervacija:46
CATEGORIES:Reservation
COLOR:royalblue
DESCRIPTION:Predmeti: \nLetniki: \nIzvajalci: Nevenka Mehle\, Marjetka Saj
 ovic\nProstori: Senatna soba
LOCATION:Senatna soba
ORGANIZER:Nevenka Mehle, Marjetka Sajovic
X-WR-TIMEZONE:Europe/Ljubljana
END:VEVENT
BEGIN:VEVENT
SUMMARY:Terminološka skupina
DTSTART;TZID=Europe/Ljubljana:20260504T120000
DTEND;TZID=Europe/Ljubljana:20260504T130000
DTSTAMP:20260420T003319Z
UID:pf-AFLABS-URNIK:rezervacija:47
CATEGORIES:Reservation
COLOR:royalblue
DESCRIPTION:Predmeti: \nLetniki: \nIzvajalci: Nevenka Mehle\, Marjetka Saj
 ovic\nProstori: Senatna soba
LOCATION:Senatna soba
ORGANIZER:Nevenka Mehle, Marjetka Sajovic
X-WR-TIMEZONE:Europe/Ljubljana
END:VEVENT
BEGIN:VEVENT
SUMMARY:Terminološka skupina
DTSTART;TZID=Europe/Ljubljana:20260511T120000
DTEND;TZID=Europe/Ljubljana:20260511T130000
DTSTAMP:20260420T003319Z
UID:pf-AFLABS-URNIK:rezervacija:48
CATEGORIES:Reservation
COLOR:royalblue
DESCRIPTION:Predmeti: \nLetniki: \nIzvajalci: Nevenka Mehle\, Marjetka Saj
 ovic\nProstori: Senatna soba
LOCATION:Senatna soba
ORGANIZER:Nevenka Mehle, Marjetka Sajovic
X-WR-TIMEZONE:Europe/Ljubljana
END:VEVENT
BEGIN:VEVENT
SUMMARY:Terminološka skupina
DTSTART;TZID=Europe/Ljubljana:20260518T120000
DTEND;TZID=Europe/Ljubljana:20260518T130000
DTSTAMP:20260420T003319Z
UID:pf-AFLABS-URNIK:rezervacija:49
CATEGORIES:Reservation
COLOR:royalblue
DESCRIPTION:Predmeti: \nLetniki: \nIzvajalci: Nevenka Mehle\, Marjetka Saj
 ovic\nProstori: Senatna soba
LOCATION:Senatna soba
ORGANIZER:Nevenka Mehle, Marjetka Sajovic
X-WR-TIMEZONE:Europe/Ljubljana
END:VEVENT
BEGIN:VEVENT
SUMMARY:UPC training
DTSTART;TZID=Europe/Ljubljana:20260603T080000
DTEND;TZID=Europe/Ljubljana:20260603T200000
DTSTAMP:20260420T003319Z
UID:pf-AFLABS-URNIK:rezervacija:1478
CATEGORIES:Reservation
COLOR:royalblue
DESCRIPTION:Predmeti: \nLetniki: \nIzvajalci: Marjetka Sajovic\nProstori: 
 Modra predavalnica
LOCATION:Modra predavalnica
ORGANIZER:Marjetka Sajovic
X-WR-TIMEZONE:Europe/Ljubljana
END:VEVENT
BEGIN:VEVENT
SUMMARY:UPC training
DTSTART;TZID=Europe/Ljubljana:20260604T080000
DTEND;TZID=Europe/Ljubljana:20260604T200000
DTSTAMP:20260420T003319Z
UID:pf-AFLABS-URNIK:rezervacija:1479
CATEGORIES:Reservation
COLOR:royalblue
DESCRIPTION:Predmeti: \nLetniki: \nIzvajalci: Marjetka Sajovic\nProstori: 
 Modra predavalnica
LOCATION:Modra predavalnica
ORGANIZER:Marjetka Sajovic
X-WR-TIMEZONE:Europe/Ljubljana
END:VEVENT
BEGIN:VEVENT
SUMMARY:ZDU GIZ
DTSTART;TZID=Europe/Ljubljana:20260615T163000
DTEND;TZID=Europe/Ljubljana:20260615T180000
DTSTAMP:20260420T003319Z
UID:pf-AFLABS-URNIK:rezervacija:1515
CATEGORIES:Reservation
COLOR:royalblue
DESCRIPTION:Predmeti: \nLetniki: \nIzvajalci: Marjetka Sajovic\nProstori: 
 Siva predavalnica
LOCATION:Siva predavalnica
ORGANIZER:Marjetka Sajovic
X-WR-TIMEZONE:Europe/Ljubljana
END:VEVENT
BEGIN:VEVENT
SUMMARY:Predstavitev novega zakona o zaščiti pred "SLAPP" tožbami
DTSTART;TZID=Europe/Ljubljana:20260423T093000
DTEND;TZID=Europe/Ljubljana:20260423T133000
DTSTAMP:20260420T003319Z
UID:pf-AFLABS-URNIK:rezervacija:1834
CATEGORIES:Reservation
COLOR:royalblue
DESCRIPTION:Predmeti: \nLetniki: \nIzvajalci: Miroslav Cerar\, Jerca Kramb
 erger Škerl\, Marjetka Sajovic\nProstori: Modra predavalnica
LOCATION:Modra predavalnica
ORGANIZER:Miroslav Cerar, Jerca Kramberger Škerl, Marjetka Sajovic
X-WR-TIMEZONE:Europe/Ljubljana
END:VEVENT
BEGIN:VEVENT
SUMMARY:PMAC
DTSTART;TZID=Europe/Ljubljana:20260601T080000
DTEND;TZID=Europe/Ljubljana:20260601T200000
DTSTAMP:20260420T003319Z
UID:pf-AFLABS-URNIK:rezervacija:1877
CATEGORIES:Reservation
COLOR:royalblue
DESCRIPTION:Predmeti: \nLetniki: \nIzvajalci: Marjetka Sajovic\nProstori: 
 Seminar 2
LOCATION:Seminar 2
ORGANIZER:Marjetka Sajovic
X-WR-TIMEZONE:Europe/Ljubljana
END:VEVENT
BEGIN:VEVENT
SUMMARY:PMAC
DTSTART;TZID=Europe/Ljubljana:20260602T080000
DTEND;TZID=Europe/Ljubljana:20260602T200000
DTSTAMP:20260420T003319Z
UID:pf-AFLABS-URNIK:rezervacija:1878
CATEGORIES:Reservation
COLOR:royalblue
DESCRIPTION:Predmeti: \nLetniki: \nIzvajalci: Marjetka Sajovic\nProstori: 
 Seminar 2
LOCATION:Seminar 2
ORGANIZER:Marjetka Sajovic
X-WR-TIMEZONE:Europe/Ljubljana
END:VEVENT
BEGIN:VEVENT
SUMMARY:PMAC
DTSTART;TZID=Europe/Ljubljana:20260603T080000
DTEND;TZID=Europe/Ljubljana:20260603T200000
DTSTAMP:20260420T003319Z
UID:pf-AFLABS-URNIK:rezervacija:1879
CATEGORIES:Reservation
COLOR:royalblue
DESCRIPTION:Predmeti: \nLetniki: \nIzvajalci: Marjetka Sajovic\nProstori: 
 Seminar 2
LOCATION:Seminar 2
ORGANIZER:Marjetka Sajovic
X-WR-TIMEZONE:Europe/Ljubljana
END:VEVENT
BEGIN:VEVENT
SUMMARY:PMAC
DTSTART;TZID=Europe/Ljubljana:20260604T080000
DTEND;TZID=Europe/Ljubljana:20260604T200000
DTSTAMP:20260420T003319Z
UID:pf-AFLABS-URNIK:rezervacija:1880
CATEGORIES:Reservation
COLOR:royalblue
DESCRIPTION:Predmeti: \nLetniki: \nIzvajalci: Marjetka Sajovic\nProstori: 
 Seminar 2
LOCATION:Seminar 2
ORGANIZER:Marjetka Sajovic
X-WR-TIMEZONE:Europe/Ljubljana
END:VEVENT
BEGIN:VEVENT
SUMMARY:OxFirst
DTSTART;TZID=Europe/Ljubljana:20260601T080000
DTEND;TZID=Europe/Ljubljana:20260601T200000
DTSTAMP:20260420T003319Z
UID:pf-AFLABS-URNIK:rezervacija:1884
CATEGORIES:Reservation
COLOR:royalblue
DESCRIPTION:Predmeti: \nLetniki: \nIzvajalci: Marjetka Sajovic\nProstori: 
 Siva predavalnica
LOCATION:Siva predavalnica
ORGANIZER:Marjetka Sajovic
X-WR-TIMEZONE:Europe/Ljubljana
END:VEVENT
BEGIN:VEVENT
SUMMARY:OxFirst
DTSTART;TZID=Europe/Ljubljana:20260602T080000
DTEND;TZID=Europe/Ljubljana:20260602T200000
DTSTAMP:20260420T003319Z
UID:pf-AFLABS-URNIK:rezervacija:1885
CATEGORIES:Reservation
COLOR:royalblue
DESCRIPTION:Predmeti: \nLetniki: \nIzvajalci: Marjetka Sajovic\nProstori: 
 Siva predavalnica
LOCATION:Siva predavalnica
ORGANIZER:Marjetka Sajovic
X-WR-TIMEZONE:Europe/Ljubljana
END:VEVENT
BEGIN:VEVENT
SUMMARY:PMAC
DTSTART;TZID=Europe/Ljubljana:20260601T080000
DTEND;TZID=Europe/Ljubljana:20260601T200000
DTSTAMP:20260420T003319Z
UID:pf-AFLABS-URNIK:rezervacija:2140
CATEGORIES:Reservation
COLOR:royalblue
DESCRIPTION:Predmeti: \nLetniki: \nIzvajalci: Marjetka Sajovic\nProstori: 
 Senatna soba
LOCATION:Senatna soba
ORGANIZER:Marjetka Sajovic
X-WR-TIMEZONE:Europe/Ljubljana
END:VEVENT
BEGIN:VEVENT
SUMMARY:Odvetniška zbornica Slovenije
DTSTART;TZID=Europe/Ljubljana:20260512T170000
DTEND;TZID=Europe/Ljubljana:20260512T200000
DTSTAMP:20260420T003319Z
UID:pf-AFLABS-URNIK:rezervacija:2294
CATEGORIES:Reservation
COLOR:royalblue
DESCRIPTION:Predmeti: \nLetniki: \nIzvajalci: Marjetka Sajovic\nProstori: 
 Rdeča predavalnica
LOCATION:Rdeča predavalnica
ORGANIZER:Marjetka Sajovic
X-WR-TIMEZONE:Europe/Ljubljana
END:VEVENT
BEGIN:VEVENT
SUMMARY:Predstavitev kandidature dekana
DTSTART;TZID=Europe/Ljubljana:20260423T110000
DTEND;TZID=Europe/Ljubljana:20260423T120000
DTSTAMP:20260420T003319Z
UID:pf-AFLABS-URNIK:rezervacija:2346
CATEGORIES:Reservation
COLOR:royalblue
DESCRIPTION:Predmeti: \nLetniki: \nIzvajalci: Miroslav Cerar\, Saša Renko
 \, Marjetka Sajovic\nProstori: Senatna soba
LOCATION:Senatna soba
ORGANIZER:Miroslav Cerar, Saša Renko, Marjetka Sajovic
X-WR-TIMEZONE:Europe/Ljubljana
END:VEVENT
BEGIN:VEVENT
SUMMARY:5. redna seja ŠSPF
DTSTART;TZID=Europe/Ljubljana:20260422T180000
DTEND;TZID=Europe/Ljubljana:20260422T200000
DTSTAMP:20260420T003319Z
UID:pf-AFLABS-URNIK:rezervacija:2415
CATEGORIES:Reservation
COLOR:royalblue
DESCRIPTION:Predmeti: \nLetniki: \nIzvajalci: Nevenka Mehle\, Saša Renko\
 , Marjetka Sajovic\nProstori: Senatna soba
LOCATION:Senatna soba
ORGANIZER:Nevenka Mehle, Saša Renko, Marjetka Sajovic
X-WR-TIMEZONE:Europe/Ljubljana
END:VEVENT
END:VCALENDAR
