BEGIN:VCALENDAR
VERSION:2.0
PRODID:-//AFLabs urnik izvoz - pf//aflabs.si//SI
DTSTAMP:20260419T195853Z
NAME:UL PF Urnik
REFRESH-INTERVAL:PT1H
SOURCE:https://urnik.pf.uni-lj.si/en/teacher/29?day=2026-06-23&export=1
URL:https://urnik.pf.uni-lj.si/en/teacher/29?day=2026-06-23&export=1
X-PUBLISHED-TTL:PT1H
X-WR-CALNAME:UL PF Urnik
X-WR-TIMEZONE:Europe/Ljubljana
BEGIN:VTIMEZONE
TZID:Europe/Ljubljana
BEGIN:DAYLIGHT
DTSTART:20260329T020000
RDATE:20260329T020000
RDATE:20270328T020000
TZNAME:CEST
TZOFFSETFROM:+0100
TZOFFSETTO:+0200
END:DAYLIGHT
BEGIN:STANDARD
DTSTART:20261025T030000
RDATE:20261025T030000
RDATE:20271031T030000
TZNAME:CET
TZOFFSETFROM:+0200
TZOFFSETTO:+0100
END:STANDARD
END:VTIMEZONE
BEGIN:VEVENT
SUMMARY:Upravno pravo (UP)\, Vaje (V)\, [1]
DTSTART;TZID=Europe/Ljubljana:20260519T120000
DTEND;TZID=Europe/Ljubljana:20260519T130000
DTSTAMP:20260419T195853Z
UID:pf-AFLABS-URNIK:premaknjeno-srecanje:20333
ATTENDEE:4. letnik (B1)
CATEGORIES:Entry,Standard
COLOR:darkgreen
DESCRIPTION:Predmet: Upravno pravo (UP)\, Vaje (V)\, [1]\nLetniki: 4. letn
 ik (B1)\nIzvajalci: Alen Kerkoč\nProstor: Blue Lecture Hall
LOCATION:Blue Lecture Hall
ORGANIZER:Alen Kerkoč
RELATED-TO:pf-AFLABS-URNIK:srecanje:851
X-WR-TIMEZONE:Europe/Ljubljana
END:VEVENT
BEGIN:VEVENT
SUMMARY:Upravno pravo (UP)\, Vaje (V)\, [2]
DTSTART;TZID=Europe/Ljubljana:20260519T140000
DTEND;TZID=Europe/Ljubljana:20260519T150000
DTSTAMP:20260419T195853Z
UID:pf-AFLABS-URNIK:premaknjeno-srecanje:20347
ATTENDEE:4. letnik (B1)
CATEGORIES:Entry,Standard
COLOR:darkgreen
DESCRIPTION:Predmet: Upravno pravo (UP)\, Vaje (V)\, [2]\nLetniki: 4. letn
 ik (B1)\nIzvajalci: Alen Kerkoč\nProstor: Blue Lecture Hall
LOCATION:Blue Lecture Hall
ORGANIZER:Alen Kerkoč
RELATED-TO:pf-AFLABS-URNIK:srecanje:852
X-WR-TIMEZONE:Europe/Ljubljana
END:VEVENT
BEGIN:VEVENT
SUMMARY:Upravno pravo (UP)\, Vaje (V)\, [3]
DTSTART;TZID=Europe/Ljubljana:20260519T150000
DTEND;TZID=Europe/Ljubljana:20260519T160000
DTSTAMP:20260419T195853Z
UID:pf-AFLABS-URNIK:premaknjeno-srecanje:20361
ATTENDEE:4. letnik (B1)
CATEGORIES:Entry,Standard
COLOR:darkgreen
DESCRIPTION:Predmet: Upravno pravo (UP)\, Vaje (V)\, [3]\nLetniki: 4. letn
 ik (B1)\nIzvajalci: Alen Kerkoč\nProstor: Blue Lecture Hall
LOCATION:Blue Lecture Hall
ORGANIZER:Alen Kerkoč
RELATED-TO:pf-AFLABS-URNIK:srecanje:853
X-WR-TIMEZONE:Europe/Ljubljana
END:VEVENT
BEGIN:VEVENT
SUMMARY:Upravno pravo (UP)\, Vaje (V)\, [4]
DTSTART;TZID=Europe/Ljubljana:20260519T130000
DTEND;TZID=Europe/Ljubljana:20260519T140000
DTSTAMP:20260419T195853Z
UID:pf-AFLABS-URNIK:premaknjeno-srecanje:20375
ATTENDEE:4. letnik (B1)
CATEGORIES:Entry,Standard
COLOR:darkgreen
DESCRIPTION:Predmet: Upravno pravo (UP)\, Vaje (V)\, [4]\nLetniki: 4. letn
 ik (B1)\nIzvajalci: Alen Kerkoč\nProstor: Blue Lecture Hall
LOCATION:Blue Lecture Hall
ORGANIZER:Alen Kerkoč
RELATED-TO:pf-AFLABS-URNIK:srecanje:854
X-WR-TIMEZONE:Europe/Ljubljana
END:VEVENT
BEGIN:VEVENT
SUMMARY:Upravno pravo (UP)\, Vaje (V)\, [5]
DTSTART;TZID=Europe/Ljubljana:20260519T110000
DTEND;TZID=Europe/Ljubljana:20260519T120000
DTSTAMP:20260419T195853Z
UID:pf-AFLABS-URNIK:premaknjeno-srecanje:20389
ATTENDEE:4. letnik (B1)
CATEGORIES:Entry,Standard
COLOR:darkgreen
DESCRIPTION:Predmet: Upravno pravo (UP)\, Vaje (V)\, [5]\nLetniki: 4. letn
 ik (B1)\nIzvajalci: Alen Kerkoč\nProstor: Blue Lecture Hall
LOCATION:Blue Lecture Hall
ORGANIZER:Alen Kerkoč
RELATED-TO:pf-AFLABS-URNIK:srecanje:855
X-WR-TIMEZONE:Europe/Ljubljana
END:VEVENT
END:VCALENDAR
